BEGIN:VCALENDAR
VERSION:2.0
PRODID:-//Columbia Opportunity Resource - ECPv6.15.20//NONSGML v1.0//EN
CALSCALE:GREGORIAN
METHOD:PUBLISH
X-ORIGINAL-URL:https://ourcor.org
X-WR-CALDESC:Events for Columbia Opportunity Resource
REFRESH-INTERVAL;VALUE=DURATION:PT1H
X-Robots-Tag:noindex
X-PUBLISHED-TTL:PT1H
BEGIN:VTIMEZONE
TZID:America/New_York
BEGIN:DAYLIGHT
TZOFFSETFROM:-0500
TZOFFSETTO:-0400
TZNAME:EDT
DTSTART:20250309T070000
END:DAYLIGHT
BEGIN:STANDARD
TZOFFSETFROM:-0400
TZOFFSETTO:-0500
TZNAME:EST
DTSTART:20251102T060000
END:STANDARD
BEGIN:DAYLIGHT
TZOFFSETFROM:-0500
TZOFFSETTO:-0400
TZNAME:EDT
DTSTART:20260308T070000
END:DAYLIGHT
BEGIN:STANDARD
TZOFFSETFROM:-0400
TZOFFSETTO:-0500
TZNAME:EST
DTSTART:20261101T060000
END:STANDARD
BEGIN:DAYLIGHT
TZOFFSETFROM:-0500
TZOFFSETTO:-0400
TZNAME:EDT
DTSTART:20270314T070000
END:DAYLIGHT
BEGIN:STANDARD
TZOFFSETFROM:-0400
TZOFFSETTO:-0500
TZNAME:EST
DTSTART:20271107T060000
END:STANDARD
END:VTIMEZONE
BEGIN:VEVENT
DTSTART;TZID=America/New_York:20260516T090000
DTEND;TZID=America/New_York:20260516T120000
DTSTAMP:20260420T174846
CREATED:20260420T201155Z
LAST-MODIFIED:20260420T201155Z
UID:13150-1778922000-1778932800@ourcor.org
SUMMARY:Volunteer: Camp Cole
DESCRIPTION:Looking for a meaningful way to make a difference? Join us for a volunteer opportunity at Camp Cole! \nHelp Camp Cole get ready for summer this year during a beautification day on May 16th from 9am-12pm. Tasks may include mulching\, landscaping\, helping set up furniture\, etc. Please dress comfortably and come ready for good energy! \nSign up Here!
URL:https://ourcor.org/event/volunteer-camp-cole-2/
LOCATION:Camp Cole\, 1571 Crossing Creek Road\, Eastover\, SC\, United States
ATTACH;FMTTYPE=image/png:/wp-content/uploads/2026/04/COR-Events.png
ORGANIZER;CN="Columbia Opportunity Resource | COR Volunteer":MAILTO:volunteerwithcor@gmail.com
END:VEVENT
BEGIN:VEVENT
DTSTART;TZID=America/New_York:20260527T173000
DTEND;TZID=America/New_York:20260624T193000
DTSTAMP:20260420T174846
CREATED:20240215T192811Z
LAST-MODIFIED:20260227T134103Z
UID:11925-1779903000-1782329400@ourcor.org
SUMMARY:Capture Columbia
DESCRIPTION:Capture Columbia is a program designed for college students\, summer associates at companies\, and recent graduates in the Columbia area to take a deep dive into the community while building personal and professional relationships that may help land jobs and build careers. Best of all– Capture Columbia is completely FREE. \n \nREGISTER HERE \n  \n 
URL:https://ourcor.org/event/capture-columbia/
LOCATION:SC
CATEGORIES:Fun,Lead
ATTACH;FMTTYPE=image/png:/wp-content/uploads/2024/02/Capture-Cola.png
ORGANIZER;CN="Columbia Opportunity Resource | COR":MAILTO:info@ourcor.org
END:VEVENT
END:VCALENDAR