BEGIN:VCALENDAR
VERSION:2.0
PRODID:-//Columbia Opportunity Resource - ECPv6.15.20//NONSGML v1.0//EN
CALSCALE:GREGORIAN
METHOD:PUBLISH
X-ORIGINAL-URL:https://ourcor.org
X-WR-CALDESC:Events for Columbia Opportunity Resource
REFRESH-INTERVAL;VALUE=DURATION:PT1H
X-Robots-Tag:noindex
X-PUBLISHED-TTL:PT1H
BEGIN:VTIMEZONE
TZID:America/New_York
BEGIN:DAYLIGHT
TZOFFSETFROM:-0500
TZOFFSETTO:-0400
TZNAME:EDT
DTSTART:20230312T070000
END:DAYLIGHT
BEGIN:STANDARD
TZOFFSETFROM:-0400
TZOFFSETTO:-0500
TZNAME:EST
DTSTART:20231105T060000
END:STANDARD
BEGIN:DAYLIGHT
TZOFFSETFROM:-0500
TZOFFSETTO:-0400
TZNAME:EDT
DTSTART:20240310T070000
END:DAYLIGHT
BEGIN:STANDARD
TZOFFSETFROM:-0400
TZOFFSETTO:-0500
TZNAME:EST
DTSTART:20241103T060000
END:STANDARD
BEGIN:DAYLIGHT
TZOFFSETFROM:-0500
TZOFFSETTO:-0400
TZNAME:EDT
DTSTART:20250309T070000
END:DAYLIGHT
BEGIN:STANDARD
TZOFFSETFROM:-0400
TZOFFSETTO:-0500
TZNAME:EST
DTSTART:20251102T060000
END:STANDARD
END:VTIMEZONE
BEGIN:VEVENT
DTSTART;TZID=America/New_York:20241204T183000
DTEND;TZID=America/New_York:20241204T200000
DTSTAMP:20260421T173142
CREATED:20241112T181028Z
LAST-MODIFIED:20241125T175620Z
UID:12267-1733337000-1733342400@ourcor.org
SUMMARY:COR Connections: Grinch & Gift Wrapping Party
DESCRIPTION:Join us for our annual gift wrapping party at Piecewise in Cayce in partnership with Richland County Economic Development. We’ll be filled with holiday cheer as we wrap gifts for our two adopted families through Families Helping Families with special guest\, the Grinch! This is a members-only event. \n  \nPurchase gifts for our families at their dedicated Amazon registries: \n\nFamily 501 \n\nFamily 986 \n\nFill out my LGL Form!
URL:https://ourcor.org/event/cor-connections-grinch-gift-party/
LOCATION:Piecewise Coffee Co.\, 2001 State St\, Cayce\, 29033\, United States
CATEGORIES:COR Connections,Fun,Serve
ATTACH;FMTTYPE=image/png:/wp-content/uploads/2024/11/COR-Connections-Gift-wrapping-party.png
ORGANIZER;CN="Columbia Opportunity Resource | COR":MAILTO:info@ourcor.org
END:VEVENT
END:VCALENDAR